BEGIN:VCALENDAR
VERSION:2.0
PRODID:-//Teatro de la Villa de Umbrete - ECPv6.15.17.1//NONSGML v1.0//EN
CALSCALE:GREGORIAN
METHOD:PUBLISH
X-WR-CALNAME:Teatro de la Villa de Umbrete
X-ORIGINAL-URL:https://teatrodelavilladeumbrete.com
X-WR-CALDESC:Eventos para Teatro de la Villa de Umbrete
REFRESH-INTERVAL;VALUE=DURATION:PT1H
X-Robots-Tag:noindex
X-PUBLISHED-TTL:PT1H
BEGIN:VTIMEZONE
TZID:Europe/Madrid
BEGIN:DAYLIGHT
TZOFFSETFROM:+0100
TZOFFSETTO:+0200
TZNAME:CEST
DTSTART:20230326T010000
END:DAYLIGHT
BEGIN:STANDARD
TZOFFSETFROM:+0200
TZOFFSETTO:+0100
TZNAME:CET
DTSTART:20231029T010000
END:STANDARD
BEGIN:DAYLIGHT
TZOFFSETFROM:+0100
TZOFFSETTO:+0200
TZNAME:CEST
DTSTART:20240331T010000
END:DAYLIGHT
BEGIN:STANDARD
TZOFFSETFROM:+0200
TZOFFSETTO:+0100
TZNAME:CET
DTSTART:20241027T010000
END:STANDARD
BEGIN:DAYLIGHT
TZOFFSETFROM:+0100
TZOFFSETTO:+0200
TZNAME:CEST
DTSTART:20250330T010000
END:DAYLIGHT
BEGIN:STANDARD
TZOFFSETFROM:+0200
TZOFFSETTO:+0100
TZNAME:CET
DTSTART:20251026T010000
END:STANDARD
END:VTIMEZONE
BEGIN:VEVENT
DTSTART;TZID=Europe/Madrid:20240217T120000
DTEND;TZID=Europe/Madrid:20240217T130000
DTSTAMP:20260424T163151
CREATED:20231213T091241Z
LAST-MODIFIED:20231213T091241Z
UID:10000046-1708171200-1708174800@teatrodelavilladeumbrete.com
SUMMARY:Hamelí. Cía Xip Xap
DESCRIPTION:Género: Teatro \nPúblico recomendado: Todos los públicos \nPrecio: 5 € anticipada\, 8 € no anticipada \nSinopsis: \nAlgunos clásicos tienen el poder de sobrevivir al paso del tiempo y continuar ofreciendo lecturas que nos resultan completamente contemporáneas. Como HAMELÍN\, un espectáculo basado en el cuento clásico que mantiene viva una esencia que pensamos que es imprescindible contar. \nHamelín explica la misteriosa desgracia de una ciudad que bien podría ser la tuya\, donde conviven todos los vecinos y vecinas\, con sus alegrías y sus discordias\, pero un hecho hará que su convivencia se vea alterada de forma dramática. La población es invadida por una plaga de ratas\, pero nadie sabe de dónde vienen\, ¿o quizás es que no han venido de ninguna parte y siempre han estado allí? \n  \n 
URL:https://teatrodelavilladeumbrete.com/event/hameli-cia-xip-xap/
CATEGORIES:Para todos los públicos,Teatro
ATTACH;FMTTYPE=image/png:https://teatrodelavilladeumbrete.com/wp-content/uploads/2023/12/hamelin-web.png
END:VEVENT
BEGIN:VEVENT
DTSTART;TZID=Europe/Madrid:20240218T120000
DTEND;TZID=Europe/Madrid:20240218T140000
DTSTAMP:20260424T163151
CREATED:20240103T111532Z
LAST-MODIFIED:20240209T114539Z
UID:10000049-1708257600-1708264800@teatrodelavilladeumbrete.com
SUMMARY:I Concierto de bandas “Sones Cofrades” Villa de Umbrete
DESCRIPTION:Género: Música cofrade \nPúblico recomendado: Todos los públicos \nPrecio: 5 € \nConcierto de las bandas: \nAgrupación Musical VIRGEN DE LOS REYES (juvenil). Sevilla \nBanda de Cornetas y Tambores JESÚS NAZARENO. Huelva \nBanda de cornetas y tambores  CENTURIA MACARENA. Sevilla \nCon la colaboración de: Audios Cofrades en Directo. \nCompra tu entrada a partir del día 11 de enero a las 12 h en \n  \n 
URL:https://teatrodelavilladeumbrete.com/event/i-concierto-de-bandas-sones-cofrades-villa-de-umbrete/
CATEGORIES:Música,Para todos los públicos,Semana Santa
ATTACH;FMTTYPE=image/png:https://teatrodelavilladeumbrete.com/wp-content/uploads/2024/01/concierto-bandas-web-1.png
END:VEVENT
END:VCALENDAR