BEGIN:VCALENDAR
VERSION:2.0
PRODID:-//Teatro de la Villa de Umbrete - ECPv6.15.17.1//NONSGML v1.0//EN
CALSCALE:GREGORIAN
METHOD:PUBLISH
X-ORIGINAL-URL:https://teatrodelavilladeumbrete.com
X-WR-CALDESC:Eventos para Teatro de la Villa de Umbrete
REFRESH-INTERVAL;VALUE=DURATION:PT1H
X-Robots-Tag:noindex
X-PUBLISHED-TTL:PT1H
BEGIN:VTIMEZONE
TZID:Europe/Madrid
BEGIN:DAYLIGHT
TZOFFSETFROM:+0100
TZOFFSETTO:+0200
TZNAME:CEST
DTSTART:20220327T010000
END:DAYLIGHT
BEGIN:STANDARD
TZOFFSETFROM:+0200
TZOFFSETTO:+0100
TZNAME:CET
DTSTART:20221030T010000
END:STANDARD
BEGIN:DAYLIGHT
TZOFFSETFROM:+0100
TZOFFSETTO:+0200
TZNAME:CEST
DTSTART:20230326T010000
END:DAYLIGHT
BEGIN:STANDARD
TZOFFSETFROM:+0200
TZOFFSETTO:+0100
TZNAME:CET
DTSTART:20231029T010000
END:STANDARD
BEGIN:DAYLIGHT
TZOFFSETFROM:+0100
TZOFFSETTO:+0200
TZNAME:CEST
DTSTART:20240331T010000
END:DAYLIGHT
BEGIN:STANDARD
TZOFFSETFROM:+0200
TZOFFSETTO:+0100
TZNAME:CET
DTSTART:20241027T010000
END:STANDARD
END:VTIMEZONE
BEGIN:VEVENT
DTSTART;TZID=Europe/Madrid:20231209T200000
DTEND;TZID=Europe/Madrid:20231209T210000
DTSTAMP:20260424T201258
CREATED:20230622T074525Z
LAST-MODIFIED:20231130T122226Z
UID:10000035-1702152000-1702155600@teatrodelavilladeumbrete.com
SUMMARY:Curra y Lola. Cía Proyecto NaNa
DESCRIPTION:Género: Danza \nPúblico recomendado: Todos los públicos \nPrecio: 5 € anticipada\, 8 € no anticipada \n  \n  \n  \n 
URL:https://teatrodelavilladeumbrete.com/event/curra-y-lola-cia-proyecto-nana/
CATEGORIES:Danza,Infantil,Para todos los públicos
ATTACH;FMTTYPE=image/png:https://teatrodelavilladeumbrete.com/wp-content/uploads/2023/06/curra-y-lola-web.png
END:VEVENT
BEGIN:VEVENT
DTSTART;TZID=Europe/Madrid:20231222T170000
DTEND;TZID=Europe/Madrid:20231222T180000
DTSTAMP:20260424T201258
CREATED:20231211T092648Z
LAST-MODIFIED:20231211T092648Z
UID:10000043-1703264400-1703268000@teatrodelavilladeumbrete.com
SUMMARY:Concierto-audición AEMU
DESCRIPTION:Género: Música- Navidad \nPúblico recomendado: Todos los públicos \nPrecio: Gratuito \nRecogida de entradas: \n\nEn nuestra taquilla en su horario habitual\nMáximo dos entradas por persona\nTendrás que presentar tu DNI para la retirada de entradas.\nla entradas se retirarán por orden de llegada hasta completar aforo.
URL:https://teatrodelavilladeumbrete.com/event/concierto-audicion-aemu/
CATEGORIES:Música,Navidad,Para todos los públicos
ATTACH;FMTTYPE=image/png:https://teatrodelavilladeumbrete.com/wp-content/uploads/2023/12/audicion-AEMU-web.png
END:VEVENT
BEGIN:VEVENT
DTSTART;TZID=Europe/Madrid:20231223T120000
DTEND;TZID=Europe/Madrid:20231223T133000
DTSTAMP:20260424T201258
CREATED:20231213T125101Z
LAST-MODIFIED:20231213T125101Z
UID:10000048-1703332800-1703338200@teatrodelavilladeumbrete.com
SUMMARY:Navidad en casa
DESCRIPTION:Género: Musical \nPúblico recomendado: Todos los públicos \nPrecio: 12 € \nEntradas para residentes a la venta desde una hora antes en nuestra taquilla. \n 
URL:https://teatrodelavilladeumbrete.com/event/navidad-en-casa/
CATEGORIES:Navidad,Para todos los públicos
ATTACH;FMTTYPE=image/png:https://teatrodelavilladeumbrete.com/wp-content/uploads/2023/12/navidad-en-casa-web.png
END:VEVENT
BEGIN:VEVENT
DTSTART;TZID=Europe/Madrid:20231229T173000
DTEND;TZID=Europe/Madrid:20231229T200000
DTSTAMP:20260424T201258
CREATED:20230922T182924Z
LAST-MODIFIED:20231005T062035Z
UID:10000036-1703871000-1703880000@teatrodelavilladeumbrete.com
SUMMARY:Moisés\, el príncipe de Egipto. El Musical
DESCRIPTION:  \n \nGénero: Musical \nPúblico recomendado: Todos los públicos \nPrecio: 10 € anticipada\, 13 € no anticipada \nSinopsis: \nEn el antiguo Egipto\, hace miles de años\, el faraón Seti ordena la muerte de todos los recién nacidos hebreos. Una madre\, desesperada\, coloca a su hijo en una cesta y la deposita en el Nilo. Las aguas la conducen río abajo hasta la orilla donde la hallará la reina. El niño era Moisés y fue educado como hermano de Ramsés\, el heredero del trono. Sin embargo\, cuando\, años después\, se descubra el origen hebreo de Moisés\, los hermanos se distanciarán. \n  \nUna producción de AEMU\, con música y voces en directo\, en la que se adaptan tanto el guion como la partitura. Se mezclan la partitura de la famosa película de Dream Works con la del musical de Londres. \nDIRECCIÓN MUSICAL Y ARREGLO DE LA PARTITURA: José Manuel Martínez de la Torre.\nCANTO Y DIRECCIÓN DE CORO: Leonardo Lovera.\nCOREOGRAFÍA\, EXPRESIÓN CORPORAL Y ESCENA: Bárbara Ruth Llamas.\nDIRECCIÓN ARTÍSTICA\, ADAPTACIÓN DEL LIBRETO Y ESCENA: Patricia Cayuela. \nFUERA DE ABONO \n  \n 
URL:https://teatrodelavilladeumbrete.com/event/moises-el-principe-de-egipto-el-musical/2023-12-29/1/
CATEGORIES:Musical,Para todos los públicos
ATTACH;FMTTYPE=image/png:https://teatrodelavilladeumbrete.com/wp-content/uploads/2023/09/moises-web-1.png
END:VEVENT
BEGIN:VEVENT
DTSTART;TZID=Europe/Madrid:20231229T200000
DTEND;TZID=Europe/Madrid:20231229T210000
DTSTAMP:20260424T201258
CREATED:20230922T182924Z
LAST-MODIFIED:20231005T062035Z
UID:10000037-1703880000-1703883600@teatrodelavilladeumbrete.com
SUMMARY:Moisés\, el príncipe de Egipto. El Musical
DESCRIPTION:  \n \nGénero: Musical \nPúblico recomendado: Todos los públicos \nPrecio: 10 € anticipada\, 13 € no anticipada \nSinopsis: \nEn el antiguo Egipto\, hace miles de años\, el faraón Seti ordena la muerte de todos los recién nacidos hebreos. Una madre\, desesperada\, coloca a su hijo en una cesta y la deposita en el Nilo. Las aguas la conducen río abajo hasta la orilla donde la hallará la reina. El niño era Moisés y fue educado como hermano de Ramsés\, el heredero del trono. Sin embargo\, cuando\, años después\, se descubra el origen hebreo de Moisés\, los hermanos se distanciarán. \n  \nUna producción de AEMU\, con música y voces en directo\, en la que se adaptan tanto el guion como la partitura. Se mezclan la partitura de la famosa película de Dream Works con la del musical de Londres. \nDIRECCIÓN MUSICAL Y ARREGLO DE LA PARTITURA: José Manuel Martínez de la Torre.\nCANTO Y DIRECCIÓN DE CORO: Leonardo Lovera.\nCOREOGRAFÍA\, EXPRESIÓN CORPORAL Y ESCENA: Bárbara Ruth Llamas.\nDIRECCIÓN ARTÍSTICA\, ADAPTACIÓN DEL LIBRETO Y ESCENA: Patricia Cayuela. \nFUERA DE ABONO \n  \n 
URL:https://teatrodelavilladeumbrete.com/event/moises-el-principe-de-egipto-el-musical/2023-12-29/2/
CATEGORIES:Musical,Para todos los públicos
ATTACH;FMTTYPE=image/png:https://teatrodelavilladeumbrete.com/wp-content/uploads/2023/09/moises-web-1.png
END:VEVENT
END:VCALENDAR