BEGIN:VCALENDAR
VERSION:2.0
PRODID:-//Teatro de la Villa de Umbrete - ECPv6.15.20//NONSGML v1.0//EN
CALSCALE:GREGORIAN
METHOD:PUBLISH
X-WR-CALNAME:Teatro de la Villa de Umbrete
X-ORIGINAL-URL:https://teatrodelavilladeumbrete.com
X-WR-CALDESC:Eventos para Teatro de la Villa de Umbrete
REFRESH-INTERVAL;VALUE=DURATION:PT1H
X-Robots-Tag:noindex
X-PUBLISHED-TTL:PT1H
BEGIN:VTIMEZONE
TZID:Europe/Madrid
BEGIN:DAYLIGHT
TZOFFSETFROM:+0100
TZOFFSETTO:+0200
TZNAME:CEST
DTSTART:20220327T010000
END:DAYLIGHT
BEGIN:STANDARD
TZOFFSETFROM:+0200
TZOFFSETTO:+0100
TZNAME:CET
DTSTART:20221030T010000
END:STANDARD
BEGIN:DAYLIGHT
TZOFFSETFROM:+0100
TZOFFSETTO:+0200
TZNAME:CEST
DTSTART:20230326T010000
END:DAYLIGHT
BEGIN:STANDARD
TZOFFSETFROM:+0200
TZOFFSETTO:+0100
TZNAME:CET
DTSTART:20231029T010000
END:STANDARD
BEGIN:DAYLIGHT
TZOFFSETFROM:+0100
TZOFFSETTO:+0200
TZNAME:CEST
DTSTART:20240331T010000
END:DAYLIGHT
BEGIN:STANDARD
TZOFFSETFROM:+0200
TZOFFSETTO:+0100
TZNAME:CET
DTSTART:20241027T010000
END:STANDARD
END:VTIMEZONE
BEGIN:VEVENT
DTSTART;TZID=Europe/Madrid:20230212T120000
DTEND;TZID=Europe/Madrid:20230212T130000
DTSTAMP:20260425T135757
CREATED:20230118T155123Z
LAST-MODIFIED:20230118T170833Z
UID:10000024-1676203200-1676206800@teatrodelavilladeumbrete.com
SUMMARY:Magia Berlanga. Mago Rafa Berlanga
DESCRIPTION:Género: Magia \nPúblico recomendado: Todos los públicos \nPrecio: 5 € anticipada\, 8 € no anticipada \n  \n  \n 
URL:https://teatrodelavilladeumbrete.com/event/magia-berlanga-mago-rafa-berlanga/
CATEGORIES:Magia,Para todos los públicos
ATTACH;FMTTYPE=image/png:https://teatrodelavilladeumbrete.com/wp-content/uploads/2023/01/magia-berlanga-web.png
END:VEVENT
END:VCALENDAR