BEGIN:VCALENDAR
VERSION:2.0
PRODID:-//Teatro de la Villa de Umbrete - ECPv6.15.20//NONSGML v1.0//EN
CALSCALE:GREGORIAN
METHOD:PUBLISH
X-ORIGINAL-URL:https://teatrodelavilladeumbrete.com
X-WR-CALDESC:Eventos para Teatro de la Villa de Umbrete
REFRESH-INTERVAL;VALUE=DURATION:PT1H
X-Robots-Tag:noindex
X-PUBLISHED-TTL:PT1H
BEGIN:VTIMEZONE
TZID:Europe/Madrid
BEGIN:DAYLIGHT
TZOFFSETFROM:+0100
TZOFFSETTO:+0200
TZNAME:CEST
DTSTART:20210328T010000
END:DAYLIGHT
BEGIN:STANDARD
TZOFFSETFROM:+0200
TZOFFSETTO:+0100
TZNAME:CET
DTSTART:20211031T010000
END:STANDARD
BEGIN:DAYLIGHT
TZOFFSETFROM:+0100
TZOFFSETTO:+0200
TZNAME:CEST
DTSTART:20220327T010000
END:DAYLIGHT
BEGIN:STANDARD
TZOFFSETFROM:+0200
TZOFFSETTO:+0100
TZNAME:CET
DTSTART:20221030T010000
END:STANDARD
BEGIN:DAYLIGHT
TZOFFSETFROM:+0100
TZOFFSETTO:+0200
TZNAME:CEST
DTSTART:20230326T010000
END:DAYLIGHT
BEGIN:STANDARD
TZOFFSETFROM:+0200
TZOFFSETTO:+0100
TZNAME:CET
DTSTART:20231029T010000
END:STANDARD
END:VTIMEZONE
BEGIN:VEVENT
DTSTART;TZID=Europe/Madrid:20221211T120000
DTEND;TZID=Europe/Madrid:20221211T130000
DTSTAMP:20260425T172554
CREATED:20221012T111358Z
LAST-MODIFIED:20221122T141634Z
UID:10000017-1670760000-1670763600@teatrodelavilladeumbrete.com
SUMMARY:Busclown. Cía La escalera de tijera
DESCRIPTION:Género: Teatro \nPúblico recomendado: Todos los públicos \nPrecio: 5 € anticipada\, 8 € no anticipada \nSinopsis del evento: \nEspectáculo que recrea “El Buscón” de Francisco de Quevedo\, obra en la que se narran las aventuras y desventuras de este personaje llamado Pablos y sus viajes por España en busca del ascenso en la escala social y de la fortuna\, mostrado como triunfador en algunas ocasiones pero siempre perdedor. \nNuestro espectáculo recrea la novela fielmente\, pero como no podía ser de otra manera\, aportamos los códigos y el trabajo escénico que nos caracterizan sumando a la forma de narrar la historia: teatro gestual\, circo\, clown\, comedia del arte y música en directo\, con lo que conseguimos una sucesión de situaciones y acciones dramáticas que juegan a favor del espectáculo y que lo hace especialmente visual\, teniendo en cuanta que\, además\, los elementos escénicos son escasos para favorecer aún más un ritmo ágil y delirante a los acontecimientos que tienen lugar en la escena. \n  \n 
URL:https://teatrodelavilladeumbrete.com/event/busclown-cia-la-escalera-de-tijera/
CATEGORIES:Para todos los públicos,Teatro
ATTACH;FMTTYPE=image/png:https://teatrodelavilladeumbrete.com/wp-content/uploads/2022/10/bosclown.png
END:VEVENT
END:VCALENDAR