BEGIN:VCALENDAR
VERSION:2.0
PRODID:-//Teatro de la Villa de Umbrete - ECPv6.15.17.1//NONSGML v1.0//EN
CALSCALE:GREGORIAN
METHOD:PUBLISH
X-ORIGINAL-URL:https://teatrodelavilladeumbrete.com
X-WR-CALDESC:Eventos para Teatro de la Villa de Umbrete
REFRESH-INTERVAL;VALUE=DURATION:PT1H
X-Robots-Tag:noindex
X-PUBLISHED-TTL:PT1H
BEGIN:VTIMEZONE
TZID:Europe/Madrid
BEGIN:DAYLIGHT
TZOFFSETFROM:+0100
TZOFFSETTO:+0200
TZNAME:CEST
DTSTART:20220327T010000
END:DAYLIGHT
BEGIN:STANDARD
TZOFFSETFROM:+0200
TZOFFSETTO:+0100
TZNAME:CET
DTSTART:20221030T010000
END:STANDARD
BEGIN:DAYLIGHT
TZOFFSETFROM:+0100
TZOFFSETTO:+0200
TZNAME:CEST
DTSTART:20230326T010000
END:DAYLIGHT
BEGIN:STANDARD
TZOFFSETFROM:+0200
TZOFFSETTO:+0100
TZNAME:CET
DTSTART:20231029T010000
END:STANDARD
BEGIN:DAYLIGHT
TZOFFSETFROM:+0100
TZOFFSETTO:+0200
TZNAME:CEST
DTSTART:20240331T010000
END:DAYLIGHT
BEGIN:STANDARD
TZOFFSETFROM:+0200
TZOFFSETTO:+0100
TZNAME:CET
DTSTART:20241027T010000
END:STANDARD
END:VTIMEZONE
BEGIN:VEVENT
DTSTART;TZID=Europe/Madrid:20231202T200000
DTEND;TZID=Europe/Madrid:20231202T210000
DTSTAMP:20260424T212950
CREATED:20231110T104723Z
LAST-MODIFIED:20231110T105829Z
UID:10000040-1701547200-1701550800@teatrodelavilladeumbrete.com
SUMMARY:Tiempo de Navidad. Tino Cabello
DESCRIPTION:Género: Navidad \nPúblico recomendado: Mayores de 14 años \nPrecio: 12 € anticipada\, 15 € no anticipada \nArtistas Invitados: \nDe Raúl Cabello \nDe Caramelo \nCoro de campanilleros “Así canta la Puebla” \nVenta de entradas en: \n\nRestaurante Casa Rufino\nRestaurante Santo & Seña\nCafe Bar La Era\nAl tlf: 666 132 027\n\n  \n*Este evento no está organizado por el Teatro de la Villa De Umbrete.
URL:https://teatrodelavilladeumbrete.com/event/tiempo-de-navidad-tino-cabello/
CATEGORIES:Mayores de 14 años,Navidad
ATTACH;FMTTYPE=image/png:https://teatrodelavilladeumbrete.com/wp-content/uploads/2023/11/tiempo-de-navidad-web.png
END:VEVENT
BEGIN:VEVENT
DTSTART;TZID=Europe/Madrid:20231216T200000
DTEND;TZID=Europe/Madrid:20231216T213000
DTSTAMP:20260424T212950
CREATED:20231106T140336Z
LAST-MODIFIED:20231110T105909Z
UID:10000039-1702756800-1702762200@teatrodelavilladeumbrete.com
SUMMARY:La Pascua
DESCRIPTION:Género: Navidad \nPúblico recomendado: Mayores de 14 años \nPrecio: 21 € anticipada\, 24 € no anticipada \nUn espectáculo de Brumas\, Eva Menjgibar\, Toni Espino y Triana Ojeda \nESPECTÁCULO FUERA DE ABONO \n  \n 
URL:https://teatrodelavilladeumbrete.com/event/la-pascua/
CATEGORIES:Mayores de 14 años,Navidad
ATTACH;FMTTYPE=image/png:https://teatrodelavilladeumbrete.com/wp-content/uploads/2023/11/Copia-de-moises-web.png
END:VEVENT
BEGIN:VEVENT
DTSTART;TZID=Europe/Madrid:20231220T193000
DTEND;TZID=Europe/Madrid:20231220T203000
DTSTAMP:20260424T212950
CREATED:20231211T090128Z
LAST-MODIFIED:20231218T083128Z
UID:10000042-1703100600-1703104200@teatrodelavilladeumbrete.com
SUMMARY:Navidad no hay más que una. Acción Teatral Umbrete
DESCRIPTION:Género: Navidad \nPúblico recomendado: Todos los públicos \nPrecio: Gratuito \nEl grupo local “Acción Teatral Umbrete” presenta NAVIDAD NO HAY MÁS QUE UNA \nRecogida de entradas: \n\nEn nuestra taquilla en su horario habitual\nMáximo dos entradas por persona\nTendrás que presentar tu DNI para la retirada de entradas.\nla entradas se retirarán por orden de llegada hasta completar aforo.
URL:https://teatrodelavilladeumbrete.com/event/navidad-no-hay-mas-que-una-accion-teatral-umbrete/
CATEGORIES:Navidad,Teatro aficionado
ATTACH;FMTTYPE=image/png:https://teatrodelavilladeumbrete.com/wp-content/uploads/2023/12/navidad-no-hay-mas-que-una.png
END:VEVENT
BEGIN:VEVENT
DTSTART;TZID=Europe/Madrid:20231222T170000
DTEND;TZID=Europe/Madrid:20231222T180000
DTSTAMP:20260424T212950
CREATED:20231211T092648Z
LAST-MODIFIED:20231211T092648Z
UID:10000043-1703264400-1703268000@teatrodelavilladeumbrete.com
SUMMARY:Concierto-audición AEMU
DESCRIPTION:Género: Música- Navidad \nPúblico recomendado: Todos los públicos \nPrecio: Gratuito \nRecogida de entradas: \n\nEn nuestra taquilla en su horario habitual\nMáximo dos entradas por persona\nTendrás que presentar tu DNI para la retirada de entradas.\nla entradas se retirarán por orden de llegada hasta completar aforo.
URL:https://teatrodelavilladeumbrete.com/event/concierto-audicion-aemu/
CATEGORIES:Música,Navidad,Para todos los públicos
ATTACH;FMTTYPE=image/png:https://teatrodelavilladeumbrete.com/wp-content/uploads/2023/12/audicion-AEMU-web.png
END:VEVENT
BEGIN:VEVENT
DTSTART;TZID=Europe/Madrid:20231223T120000
DTEND;TZID=Europe/Madrid:20231223T133000
DTSTAMP:20260424T212950
CREATED:20231213T125101Z
LAST-MODIFIED:20231213T125101Z
UID:10000048-1703332800-1703338200@teatrodelavilladeumbrete.com
SUMMARY:Navidad en casa
DESCRIPTION:Género: Musical \nPúblico recomendado: Todos los públicos \nPrecio: 12 € \nEntradas para residentes a la venta desde una hora antes en nuestra taquilla. \n 
URL:https://teatrodelavilladeumbrete.com/event/navidad-en-casa/
CATEGORIES:Navidad,Para todos los públicos
ATTACH;FMTTYPE=image/png:https://teatrodelavilladeumbrete.com/wp-content/uploads/2023/12/navidad-en-casa-web.png
END:VEVENT
END:VCALENDAR