BEGIN:VCALENDAR
VERSION:2.0
PRODID:-//Teatro de la Villa de Umbrete - ECPv6.15.17.1//NONSGML v1.0//EN
CALSCALE:GREGORIAN
METHOD:PUBLISH
X-ORIGINAL-URL:https://teatrodelavilladeumbrete.com
X-WR-CALDESC:Eventos para Teatro de la Villa de Umbrete
REFRESH-INTERVAL;VALUE=DURATION:PT1H
X-Robots-Tag:noindex
X-PUBLISHED-TTL:PT1H
BEGIN:VTIMEZONE
TZID:Europe/Madrid
BEGIN:DAYLIGHT
TZOFFSETFROM:+0100
TZOFFSETTO:+0200
TZNAME:CEST
DTSTART:20230326T010000
END:DAYLIGHT
BEGIN:STANDARD
TZOFFSETFROM:+0200
TZOFFSETTO:+0100
TZNAME:CET
DTSTART:20231029T010000
END:STANDARD
BEGIN:DAYLIGHT
TZOFFSETFROM:+0100
TZOFFSETTO:+0200
TZNAME:CEST
DTSTART:20240331T010000
END:DAYLIGHT
BEGIN:STANDARD
TZOFFSETFROM:+0200
TZOFFSETTO:+0100
TZNAME:CET
DTSTART:20241027T010000
END:STANDARD
BEGIN:DAYLIGHT
TZOFFSETFROM:+0100
TZOFFSETTO:+0200
TZNAME:CEST
DTSTART:20250330T010000
END:DAYLIGHT
BEGIN:STANDARD
TZOFFSETFROM:+0200
TZOFFSETTO:+0100
TZNAME:CET
DTSTART:20251026T010000
END:STANDARD
END:VTIMEZONE
BEGIN:VEVENT
DTSTART;TZID=Europe/Madrid:20241221T170000
DTEND;TZID=Europe/Madrid:20241221T200000
DTSTAMP:20260422T081952
CREATED:20240523T114638Z
LAST-MODIFIED:20240614T063901Z
UID:10000060-1734800400-1734811200@teatrodelavilladeumbrete.com
SUMMARY:Yo voy a ser Rey León. AEMU
DESCRIPTION:Género: Musical \nPúblico recomendado: Todos los públicos \nPrecio: 12 € anticipada\, 15 € no anticipada \nSinopsis: \nUn nuevo cachorro León\, ha nacido en la sabana africana\, Simba\, que se convertirá en un joven león que\, tras la muerte de su padre\, es exiliado de su hogar por su tío\, Scar\, quien usurpa el trono. Con la ayuda de sus amigos y las enseñanzas de su padre\, Simba es alentado a regresar y reclamar su lugar en el reino\, como Rey. Con música en riguroso directo y una gran escenografía y caracterización\, no te pierdas este icónico musical en Umbrete. \nFUERA DE ABONO \n  \n 
URL:https://teatrodelavilladeumbrete.com/event/voy-a-ser-rey-leon-aemu/
CATEGORIES:Musical
ATTACH;FMTTYPE=image/png:https://teatrodelavilladeumbrete.com/wp-content/uploads/2024/05/rey-leon-web.png
END:VEVENT
END:VCALENDAR