BEGIN:VCALENDAR
VERSION:2.0
PRODID:-//Teatro de la Villa de Umbrete - ECPv6.15.17.1//NONSGML v1.0//EN
CALSCALE:GREGORIAN
METHOD:PUBLISH
X-ORIGINAL-URL:https://teatrodelavilladeumbrete.com
X-WR-CALDESC:Eventos para Teatro de la Villa de Umbrete
REFRESH-INTERVAL;VALUE=DURATION:PT1H
X-Robots-Tag:noindex
X-PUBLISHED-TTL:PT1H
BEGIN:VTIMEZONE
TZID:Europe/Madrid
BEGIN:DAYLIGHT
TZOFFSETFROM:+0100
TZOFFSETTO:+0200
TZNAME:CEST
DTSTART:20210328T010000
END:DAYLIGHT
BEGIN:STANDARD
TZOFFSETFROM:+0200
TZOFFSETTO:+0100
TZNAME:CET
DTSTART:20211031T010000
END:STANDARD
BEGIN:DAYLIGHT
TZOFFSETFROM:+0100
TZOFFSETTO:+0200
TZNAME:CEST
DTSTART:20220327T010000
END:DAYLIGHT
BEGIN:STANDARD
TZOFFSETFROM:+0200
TZOFFSETTO:+0100
TZNAME:CET
DTSTART:20221030T010000
END:STANDARD
BEGIN:DAYLIGHT
TZOFFSETFROM:+0100
TZOFFSETTO:+0200
TZNAME:CEST
DTSTART:20230326T010000
END:DAYLIGHT
BEGIN:STANDARD
TZOFFSETFROM:+0200
TZOFFSETTO:+0100
TZNAME:CET
DTSTART:20231029T010000
END:STANDARD
END:VTIMEZONE
BEGIN:VEVENT
DTSTART;TZID=Europe/Madrid:20221002T170000
DTEND;TZID=Europe/Madrid:20221002T183000
DTSTAMP:20260424T065159
CREATED:20220929T142950Z
LAST-MODIFIED:20220929T142950Z
UID:10000010-1664730000-1664735400@teatrodelavilladeumbrete.com
SUMMARY:Broadway\, una velada en la villa
DESCRIPTION:Género: Musical \nPúblico recomendado: Para todos los públicos \nPrecio: gratuito \n\nPuedes adquirir tu entrada en el Ayuntamiento de Umbrete el  y viernes 30 en horario de 10 h a 12 h y de 16 h a 19 h\, en el salón de plenos (entrada por puerta lateral). Cada persona podrá adquirir un máximo de 2 entradas.\n\nLa Asociación Escuela de Música de Umbrete nos trae su recital ‘Broadway\, una velada en la villa’\, su única función será el próximo día 2 de octubre a las 19:00 h.
URL:https://teatrodelavilladeumbrete.com/event/broadway-una-velada-en-la-villa-2/
CATEGORIES:Musical,Para todos los públicos
ATTACH;FMTTYPE=image/png:https://teatrodelavilladeumbrete.com/wp-content/uploads/2022/09/AEMU.png
END:VEVENT
BEGIN:VEVENT
DTSTART;TZID=Europe/Madrid:20221002T193000
DTEND;TZID=Europe/Madrid:20221002T210000
DTSTAMP:20260424T065159
CREATED:20220922T181738Z
LAST-MODIFIED:20220929T143102Z
UID:10000003-1664739000-1664744400@teatrodelavilladeumbrete.com
SUMMARY:Broadway\, una velada en la villa
DESCRIPTION:Género: Musical \nPúblico recomendado: Para todos los públicos \nPrecio: gratuito \n\nENTRADAS AGOTADAS\n\nLa Asociación Escuela de Música de Umbrete nos trae su recital ‘Broadway\, una velada en la villa’\, su única función será el próximo día 2 de octubre a las 19:00 h.
URL:https://teatrodelavilladeumbrete.com/event/broadway-una-velada-en-la-villa/
CATEGORIES:Musical,Para todos los públicos
ATTACH;FMTTYPE=image/png:https://teatrodelavilladeumbrete.com/wp-content/uploads/2022/09/AEMU.png
END:VEVENT
END:VCALENDAR