BEGIN:VCALENDAR
VERSION:2.0
PRODID:-//Teatro de la Villa de Umbrete - ECPv6.15.17.1//NONSGML v1.0//EN
CALSCALE:GREGORIAN
METHOD:PUBLISH
X-WR-CALNAME:Teatro de la Villa de Umbrete
X-ORIGINAL-URL:https://teatrodelavilladeumbrete.com
X-WR-CALDESC:Eventos para Teatro de la Villa de Umbrete
REFRESH-INTERVAL;VALUE=DURATION:PT1H
X-Robots-Tag:noindex
X-PUBLISHED-TTL:PT1H
BEGIN:VTIMEZONE
TZID:Europe/Madrid
BEGIN:DAYLIGHT
TZOFFSETFROM:+0100
TZOFFSETTO:+0200
TZNAME:CEST
DTSTART:20230326T010000
END:DAYLIGHT
BEGIN:STANDARD
TZOFFSETFROM:+0200
TZOFFSETTO:+0100
TZNAME:CET
DTSTART:20231029T010000
END:STANDARD
BEGIN:DAYLIGHT
TZOFFSETFROM:+0100
TZOFFSETTO:+0200
TZNAME:CEST
DTSTART:20240331T010000
END:DAYLIGHT
BEGIN:STANDARD
TZOFFSETFROM:+0200
TZOFFSETTO:+0100
TZNAME:CET
DTSTART:20241027T010000
END:STANDARD
BEGIN:DAYLIGHT
TZOFFSETFROM:+0100
TZOFFSETTO:+0200
TZNAME:CEST
DTSTART:20250330T010000
END:DAYLIGHT
BEGIN:STANDARD
TZOFFSETFROM:+0200
TZOFFSETTO:+0100
TZNAME:CET
DTSTART:20251026T010000
END:STANDARD
END:VTIMEZONE
BEGIN:VEVENT
DTSTART;TZID=Europe/Madrid:20240503T200000
DTEND;TZID=Europe/Madrid:20240503T200000
DTSTAMP:20260423T212529
CREATED:20240422T084727Z
LAST-MODIFIED:20240428T085321Z
UID:10000058-1714766400-1714766400@teatrodelavilladeumbrete.com
SUMMARY:Siluetas Sonidos de Mujer
DESCRIPTION:Género: Música \nPúblico recomendado: Mayores de 14 años \nPrecio: Gratis \nEl concierto ‘Sonidos de Mujer’ está englobado dentro de la Campaña de sensibilización del Pacto de Estado contra la Violencia de Género del Gobierno de España \nS𝐨𝐥𝐢𝐜𝐢𝐭𝐮𝐝 𝐝𝐞 𝐞𝐧𝐭𝐫𝐚𝐝𝐚𝐬 𝐚 𝐭𝐫𝐚𝐯𝐞́𝐬 𝐝𝐞𝐥 𝐜𝐨𝐫𝐫𝐞𝐨 𝐞𝐥𝐞𝐜𝐭𝐫𝐨́𝐧𝐢𝐜𝐨 𝐩𝐢𝐦@𝐮𝐦𝐛𝐫𝐞𝐭𝐞.𝐞𝐬 𝐜𝐨𝐧 𝐟𝐞𝐜𝐡𝐚 𝐥𝐢́𝐦𝐢𝐭𝐞 𝐡𝐚𝐬𝐭𝐚 𝐞𝐥 𝐝𝐨𝐦𝐢𝐧𝐠𝐨 𝟐𝟖 𝐝𝐞 𝐚𝐛𝐫𝐢𝐥. \nRecogida de entradas en:\n– Lunes 29 de abril\, martes 30 de abril y jueves 2 de mayo | 9:30 horas – 13:30 horas\nServicios Sociales del Ayuntamiento de Umbrete\n– Jueves 2 de mayo | 19:30 horas- 20:30 horas\nTaquilla del Teatro de la Villa de Umbrete
URL:https://teatrodelavilladeumbrete.com/event/siluetas-sonidos-de-mujer/
CATEGORIES:Música
ATTACH;FMTTYPE=image/png:https://teatrodelavilladeumbrete.com/wp-content/uploads/2024/04/silueta-web.png
END:VEVENT
END:VCALENDAR