BEGIN:VCALENDAR
VERSION:2.0
PRODID:-//Teatro de la Villa de Umbrete - ECPv6.15.17.1//NONSGML v1.0//EN
CALSCALE:GREGORIAN
METHOD:PUBLISH
X-WR-CALNAME:Teatro de la Villa de Umbrete
X-ORIGINAL-URL:https://teatrodelavilladeumbrete.com
X-WR-CALDESC:Eventos para Teatro de la Villa de Umbrete
REFRESH-INTERVAL;VALUE=DURATION:PT1H
X-Robots-Tag:noindex
X-PUBLISHED-TTL:PT1H
BEGIN:VTIMEZONE
TZID:Europe/Madrid
BEGIN:DAYLIGHT
TZOFFSETFROM:+0100
TZOFFSETTO:+0200
TZNAME:CEST
DTSTART:20230326T010000
END:DAYLIGHT
BEGIN:STANDARD
TZOFFSETFROM:+0200
TZOFFSETTO:+0100
TZNAME:CET
DTSTART:20231029T010000
END:STANDARD
BEGIN:DAYLIGHT
TZOFFSETFROM:+0100
TZOFFSETTO:+0200
TZNAME:CEST
DTSTART:20240331T010000
END:DAYLIGHT
BEGIN:STANDARD
TZOFFSETFROM:+0200
TZOFFSETTO:+0100
TZNAME:CET
DTSTART:20241027T010000
END:STANDARD
BEGIN:DAYLIGHT
TZOFFSETFROM:+0100
TZOFFSETTO:+0200
TZNAME:CEST
DTSTART:20250330T010000
END:DAYLIGHT
BEGIN:STANDARD
TZOFFSETFROM:+0200
TZOFFSETTO:+0100
TZNAME:CET
DTSTART:20251026T010000
END:STANDARD
END:VTIMEZONE
BEGIN:VEVENT
DTSTART;TZID=Europe/Madrid:20240309T200000
DTEND;TZID=Europe/Madrid:20240309T210000
DTSTAMP:20260419T190930
CREATED:20231213T093152Z
LAST-MODIFIED:20240205T124057Z
UID:10000047-1710014400-1710018000@teatrodelavilladeumbrete.com
SUMMARY:Juan Tomás de la Molía
DESCRIPTION:Género: Flamenco \nPúblico recomendado: Mayores de 14 años \nPrecio: 5 € anticipada\, 8 € no anticipada \n  \n 
URL:https://teatrodelavilladeumbrete.com/event/juan-tomas-de-la-molia/
CATEGORIES:Flamenco,Mayores de 14 años
ATTACH;FMTTYPE=image/png:https://teatrodelavilladeumbrete.com/wp-content/uploads/2023/12/juan-tomas-web-1.png
END:VEVENT
BEGIN:VEVENT
DTSTART;TZID=Europe/Madrid:20240323T080000
DTEND;TZID=Europe/Madrid:20240323T200000
DTSTAMP:20260419T190930
CREATED:20231213T080820Z
LAST-MODIFIED:20231220T153723Z
UID:10000044-1711180800-1711224000@teatrodelavilladeumbrete.com
SUMMARY:FFF ¿Cuánto vale una camiseta? Cía. La casa de enfrente
DESCRIPTION:Género: Teatro \nPúblico recomendado: Mayores de 14 años \nPrecio: 5 € anticipada\, 8 € no anticipada \nSinopsis: \nPara elaborar una camiseta hacen falta aproximadamente ciento sesenta gramos de algodón\, dos mil litros de agua\, diez mil kilómetros de viajes alrededor del mundo incluyendo los litros de combustible necesarios para recorrerlos. \nY muchas manos. Manos que cultivan\, que cortan\, que cosen\, que tiñen\, que trasladan\, que cargan\, que descargan\, que almacenan\, que transportan\, que doblan\, que venden. Y dos manos\, que pagan para comprarla. Esta es la historia de dos camisetas que\, con veinte años de distancia\, son capaces de unir dos mundos\, dos personas y muchos destinos {im}posibles. \n  \n 
URL:https://teatrodelavilladeumbrete.com/event/fff-cuanto-vale-una-camiseta-cia-la-casa-de-enfrente/
CATEGORIES:Mayores de 14 años,Teatro
ATTACH;FMTTYPE=image/png:https://teatrodelavilladeumbrete.com/wp-content/uploads/2023/12/cuanto-vale-una-camiseta-web-1.png
END:VEVENT
END:VCALENDAR