BEGIN:VCALENDAR
VERSION:2.0
PRODID:-//Teatro de la Villa de Umbrete - ECPv6.15.17.1//NONSGML v1.0//EN
CALSCALE:GREGORIAN
METHOD:PUBLISH
X-ORIGINAL-URL:https://teatrodelavilladeumbrete.com
X-WR-CALDESC:Eventos para Teatro de la Villa de Umbrete
REFRESH-INTERVAL;VALUE=DURATION:PT1H
X-Robots-Tag:noindex
X-PUBLISHED-TTL:PT1H
BEGIN:VTIMEZONE
TZID:Europe/Madrid
BEGIN:DAYLIGHT
TZOFFSETFROM:+0100
TZOFFSETTO:+0200
TZNAME:CEST
DTSTART:20220327T010000
END:DAYLIGHT
BEGIN:STANDARD
TZOFFSETFROM:+0200
TZOFFSETTO:+0100
TZNAME:CET
DTSTART:20221030T010000
END:STANDARD
BEGIN:DAYLIGHT
TZOFFSETFROM:+0100
TZOFFSETTO:+0200
TZNAME:CEST
DTSTART:20230326T010000
END:DAYLIGHT
BEGIN:STANDARD
TZOFFSETFROM:+0200
TZOFFSETTO:+0100
TZNAME:CET
DTSTART:20231029T010000
END:STANDARD
BEGIN:DAYLIGHT
TZOFFSETFROM:+0100
TZOFFSETTO:+0200
TZNAME:CEST
DTSTART:20240331T010000
END:DAYLIGHT
BEGIN:STANDARD
TZOFFSETFROM:+0200
TZOFFSETTO:+0100
TZNAME:CET
DTSTART:20241027T010000
END:STANDARD
END:VTIMEZONE
BEGIN:VEVENT
DTSTART;TZID=Europe/Madrid:20231110T200000
DTEND;TZID=Europe/Madrid:20231110T210000
DTSTAMP:20260423T110821
CREATED:20231023T113029Z
LAST-MODIFIED:20231023T113101Z
UID:10000038-1699646400-1699650000@teatrodelavilladeumbrete.com
SUMMARY:Proceso eterno. Patricia Guerrero
DESCRIPTION:  \nGénero: Flamenco \nPúblico recomendado: Mayores de 14 años \nPrecio: 5 € anticipada\, 8 € no anticipada \nDentro de la programación del II FESTIVAL FLAMENCO Y EL MOSTO DE UMBRETE\, el Teatro de la Villa acogerá el espectáculo “Proceso eterno” de Patricia Guerrero. \nLa bailaora Patricia Guerrero\, está acompañada por el guitarrista Dani de Morón\, el cantaor Sergio del Colorao y Agustín Diassera a la percusión. \nESPECTÁCULO FUERA DE ABONO \n  \n 
URL:https://teatrodelavilladeumbrete.com/event/proceso-eterno-patricia-guerrero/
CATEGORIES:Flamenco,Mayores de 14 años
ATTACH;FMTTYPE=image/png:https://teatrodelavilladeumbrete.com/wp-content/uploads/2023/10/patricia-guerrero-web.png
END:VEVENT
BEGIN:VEVENT
DTSTART;TZID=Europe/Madrid:20231125T200000
DTEND;TZID=Europe/Madrid:20231125T210000
DTSTAMP:20260423T110821
CREATED:20230622T072452Z
LAST-MODIFIED:20230622T073955Z
UID:10000034-1700942400-1700946000@teatrodelavilladeumbrete.com
SUMMARY:¡Ay\, Carmela!. Cía Maldito Veneno
DESCRIPTION:Género: Teatro \nPúblico recomendado: Mayores de 14 años \nPrecio: 5 € anticipada\, 8 € no anticipada \nSinopsis: \nPaulino recibe una noche la visita de Carmela desde ese lugar donde viven los muertos antes de ser olvidados. A partir de ese momento\, Paulino irá reviviendo de una forma real los episodios pasados recientemente con Carmela. Paulino y Carmela son dos artistas de variedades que han pasado la línea del frente nacional en plena batalla de Belchite en busca de morcillas sin que nadie se dé cuenta.  Para salvar su pellejo acceden a hacer una Velada Artística Patriótica y Recreativa ofreciendo un espectáculo de variedades a los hombres del bando sublevado para celebrar la toma del pueblo. No saben que entre el público estarán un grupo de Brigadistas Internacionales que a la mañana siguiente serán fusilados. Carmela no seguirá con uno de los números del espectáculo por respeto a estos hombres\, motivo por el cual\, la vida de Paulino y Carmela quedará dividida para siempre\, no solo físicamente. \n  \nENTRADAS A LA VENTA A PARTIR DEL DÍA 10 DE JULIO \n  \n 
URL:https://teatrodelavilladeumbrete.com/event/ay-carmela-cia-maldito-veneno/
CATEGORIES:Mayores de 14 años,Teatro
ATTACH;FMTTYPE=image/png:https://teatrodelavilladeumbrete.com/wp-content/uploads/2023/06/ay-carmela-web.png
END:VEVENT
END:VCALENDAR