BEGIN:VCALENDAR
VERSION:2.0
PRODID:-//Teatro de la Villa de Umbrete - ECPv6.15.17.1//NONSGML v1.0//EN
CALSCALE:GREGORIAN
METHOD:PUBLISH
X-WR-CALNAME:Teatro de la Villa de Umbrete
X-ORIGINAL-URL:https://teatrodelavilladeumbrete.com
X-WR-CALDESC:Eventos para Teatro de la Villa de Umbrete
REFRESH-INTERVAL;VALUE=DURATION:PT1H
X-Robots-Tag:noindex
X-PUBLISHED-TTL:PT1H
BEGIN:VTIMEZONE
TZID:Europe/Madrid
BEGIN:DAYLIGHT
TZOFFSETFROM:+0100
TZOFFSETTO:+0200
TZNAME:CEST
DTSTART:20220327T010000
END:DAYLIGHT
BEGIN:STANDARD
TZOFFSETFROM:+0200
TZOFFSETTO:+0100
TZNAME:CET
DTSTART:20221030T010000
END:STANDARD
BEGIN:DAYLIGHT
TZOFFSETFROM:+0100
TZOFFSETTO:+0200
TZNAME:CEST
DTSTART:20230326T010000
END:DAYLIGHT
BEGIN:STANDARD
TZOFFSETFROM:+0200
TZOFFSETTO:+0100
TZNAME:CET
DTSTART:20231029T010000
END:STANDARD
BEGIN:DAYLIGHT
TZOFFSETFROM:+0100
TZOFFSETTO:+0200
TZNAME:CEST
DTSTART:20240331T010000
END:DAYLIGHT
BEGIN:STANDARD
TZOFFSETFROM:+0200
TZOFFSETTO:+0100
TZNAME:CET
DTSTART:20241027T010000
END:STANDARD
END:VTIMEZONE
BEGIN:VEVENT
DTSTART;TZID=Europe/Madrid:20230401T200000
DTEND;TZID=Europe/Madrid:20230401T210000
DTSTAMP:20260419T212525
CREATED:20230321T203249Z
LAST-MODIFIED:20230321T203409Z
UID:10000029-1680379200-1680382800@teatrodelavilladeumbrete.com
SUMMARY:El Refugio
DESCRIPTION:  \nGénero: Teatro aficionado \nPúblico recomendado: Mayores de 14 años \nPrecio: Gratis\, hasta completar aforo \nEl grupo de teatro aficionado “Acción Teatral Umbrete” presenta “El Refugio” dirigida por María Martínez de Tejada. \nReserva tu invitación enviando un correo electrónico a taquilla@teatrodelavilladeumbrete.com indicando tu nombre completo y DNI (máximo dos invitaciones por persona). \nRecogida de invitaciones en la taquilla del teatro jueves 30\, viernes 31 de marzo y sábado 1 de abril en su horario habitual. \nLa reservas se mantendrán hasta las 19:15 h del día 1 de abril\, pasada esa hora se pondrán a disposición del público. \n  \n 
URL:https://teatrodelavilladeumbrete.com/event/el-refugio/
CATEGORIES:Mayores de 14 años,Teatro aficionado
ATTACH;FMTTYPE=image/png:https://teatrodelavilladeumbrete.com/wp-content/uploads/2023/03/el-refugio-web.png
END:VEVENT
END:VCALENDAR