BEGIN:VCALENDAR
VERSION:2.0
PRODID:-//Teatro de la Villa de Umbrete - ECPv6.15.17.1//NONSGML v1.0//EN
CALSCALE:GREGORIAN
METHOD:PUBLISH
X-WR-CALNAME:Teatro de la Villa de Umbrete
X-ORIGINAL-URL:https://teatrodelavilladeumbrete.com
X-WR-CALDESC:Eventos para Teatro de la Villa de Umbrete
REFRESH-INTERVAL;VALUE=DURATION:PT1H
X-Robots-Tag:noindex
X-PUBLISHED-TTL:PT1H
BEGIN:VTIMEZONE
TZID:Europe/Madrid
BEGIN:DAYLIGHT
TZOFFSETFROM:+0100
TZOFFSETTO:+0200
TZNAME:CEST
DTSTART:20220327T010000
END:DAYLIGHT
BEGIN:STANDARD
TZOFFSETFROM:+0200
TZOFFSETTO:+0100
TZNAME:CET
DTSTART:20221030T010000
END:STANDARD
BEGIN:DAYLIGHT
TZOFFSETFROM:+0100
TZOFFSETTO:+0200
TZNAME:CEST
DTSTART:20230326T010000
END:DAYLIGHT
BEGIN:STANDARD
TZOFFSETFROM:+0200
TZOFFSETTO:+0100
TZNAME:CET
DTSTART:20231029T010000
END:STANDARD
BEGIN:DAYLIGHT
TZOFFSETFROM:+0100
TZOFFSETTO:+0200
TZNAME:CEST
DTSTART:20240331T010000
END:DAYLIGHT
BEGIN:STANDARD
TZOFFSETFROM:+0200
TZOFFSETTO:+0100
TZNAME:CET
DTSTART:20241027T010000
END:STANDARD
END:VTIMEZONE
BEGIN:VEVENT
DTSTART;TZID=Europe/Madrid:20230211T200000
DTEND;TZID=Europe/Madrid:20230211T210000
DTSTAMP:20260420T010702
CREATED:20230118T154334Z
LAST-MODIFIED:20230118T170749Z
UID:10000023-1676145600-1676149200@teatrodelavilladeumbrete.com
SUMMARY:Enamorados. Eva Mengíbar
DESCRIPTION:Género: Tragicomedia musical \nPúblico recomendado: Mayores de 14 años \nPrecio: 5 € anticipada\, 8 € no anticipada \nEva Mengibar y Toni espino presentan la segunda entrega de su espectáculo Enamorados. El 7 de octubre estrenaron con un lleno absoluto en menos de tres semanas la primera obra de teatro La Sala Puerto con un aforo de cuatrocientas cincuenta localidades. Los artistas Sevillanos vuelven a escena con un espectáculo totalmente renovado de tragicomedia musical en los que demuestran el arte polifacético de cada uno.\n\n\nEnamorados llega a los escenarios bajo la producción de Eva Mengibar y la dirección musical del guitarrista Juan María Real\, músico que acompaña a la artista desde hace más de veinte años\, para esta ocasión cuentan con un elenco de músicos de la talla de Fran Lunar\, pianista de Menta y Romero\, La Tomasa\, Triana Ojeda o Manuel Espina entre otros\, el currículum del pianista es largo a pesar de su corta edad sumando al espectáculo una gran calidad musical.\n\n\nLa dirección cuenta con la batería de Fran Gómez Calado\,conocido por su aportación musical de bandas de música que acompaña a la gran María José Santiago. A la guitarra eléctrica y acústica les acompañará Dani Marco\, también músico de la jerezana María José Santiago y como colofón\, a la guitarra flamenca Juan María Real que cuenta en su haber con ser guitarrista de grandes artistas como Brumas\, Joana Jiménez\, Lubrican y una larga lista de cantaores del panorama flamenco.
URL:https://teatrodelavilladeumbrete.com/event/enamorados-eva-mengibar/
CATEGORIES:Mayores de 14 años,Música
ATTACH;FMTTYPE=image/png:https://teatrodelavilladeumbrete.com/wp-content/uploads/2023/01/eva-mengibar-web.png
END:VEVENT
BEGIN:VEVENT
DTSTART;TZID=Europe/Madrid:20230225T200000
DTEND;TZID=Europe/Madrid:20230225T210000
DTSTAMP:20260420T010702
CREATED:20230118T160459Z
LAST-MODIFIED:20230119T162802Z
UID:10000025-1677355200-1677358800@teatrodelavilladeumbrete.com
SUMMARY:ConVERSIONES. Joana Jiménez
DESCRIPTION:Género: Música \nPúblico recomendado: Mayores de 14 años \nPrecio: 5 € anticipada\, 8 € no anticipada \nJoana Nace en Sevilla y a los 4 años comienza a bailar flamenco. A los 8 actúa por primera vez en el Teatro ALVAREZ Quintero de Sevilla. \nA los 9 graba ANDAL UCIA EN LA VOZ DE JOANA JIMENEZ\, le siguen con 11 y 12 años los L.P ESA PALOMA Y PIEL DE MELOCOTÓN. Después de ganar varios concursos entre ellos PASA LA VIDA de TVE presentado por M.TERESA CAMPOS\, continúa con numerosas apariciones televisivas en TVE TELE MADRID O CANAL SUR. En 1998 marcha a Japón 6 meses y empieza su carrera como cantaora de flamenco\, pisando las tablas de Teatros como el Nacional de Cuba\, Ópera de Tel Aviv\, la Bastilla de Paris\, Teresa Carreña de Caracas o el Real de Madrid. En 2006 interpreta las Zarzuelas Las bodas y el baile de Luis Alonso y un año después Las Bribonas en el Teatro de la Zarzuela de Madrid. \nEn 2008 se alza con el primer premio del programa de Canal Sur\, SE LLAMA COPLA\, galardonado con un premio ONDAS. Le siguen las grabaciones de sus discos\, SALVAOR A\, LAS FLORES DE MI ESPERANZA Y JOANA JIMENEZ con Sony Music. \nEn 2013 homenajea a José Alfredo Jiménez en México. En 2016 presenta su siguiente disco COMO EL PRIMER DÍA. En 2017 es galardonada con el premio de Radio ole. En 2018 presenta SINGLADURA\, y en 2019 comienza a interpretar EL AMOR BRUJO DE FALLA en Murcia\, Palau de Valencia\, Gran Canarias y Sevilla. \n  \n 
URL:https://teatrodelavilladeumbrete.com/event/joana-jimenez/
CATEGORIES:Mayores de 14 años,Música
ATTACH;FMTTYPE=image/png:https://teatrodelavilladeumbrete.com/wp-content/uploads/2023/01/Joana-JImenez-web-1.png
END:VEVENT
END:VCALENDAR