BEGIN:VCALENDAR
VERSION:2.0
PRODID:-//Teatro de la Villa de Umbrete - ECPv6.15.20//NONSGML v1.0//EN
CALSCALE:GREGORIAN
METHOD:PUBLISH
X-WR-CALNAME:Teatro de la Villa de Umbrete
X-ORIGINAL-URL:https://teatrodelavilladeumbrete.com
X-WR-CALDESC:Eventos para Teatro de la Villa de Umbrete
REFRESH-INTERVAL;VALUE=DURATION:PT1H
X-Robots-Tag:noindex
X-PUBLISHED-TTL:PT1H
BEGIN:VTIMEZONE
TZID:Europe/Madrid
BEGIN:DAYLIGHT
TZOFFSETFROM:+0100
TZOFFSETTO:+0200
TZNAME:CEST
DTSTART:20210328T010000
END:DAYLIGHT
BEGIN:STANDARD
TZOFFSETFROM:+0200
TZOFFSETTO:+0100
TZNAME:CET
DTSTART:20211031T010000
END:STANDARD
BEGIN:DAYLIGHT
TZOFFSETFROM:+0100
TZOFFSETTO:+0200
TZNAME:CEST
DTSTART:20220327T010000
END:DAYLIGHT
BEGIN:STANDARD
TZOFFSETFROM:+0200
TZOFFSETTO:+0100
TZNAME:CET
DTSTART:20221030T010000
END:STANDARD
BEGIN:DAYLIGHT
TZOFFSETFROM:+0100
TZOFFSETTO:+0200
TZNAME:CEST
DTSTART:20230326T010000
END:DAYLIGHT
BEGIN:STANDARD
TZOFFSETFROM:+0200
TZOFFSETTO:+0100
TZNAME:CET
DTSTART:20231029T010000
END:STANDARD
END:VTIMEZONE
BEGIN:VEVENT
DTSTART;TZID=Europe/Madrid:20221015T200000
DTEND;TZID=Europe/Madrid:20221015T210000
DTSTAMP:20260426T004232
CREATED:20220925T120927Z
LAST-MODIFIED:20221011T143634Z
UID:10000005-1665864000-1665867600@teatrodelavilladeumbrete.com
SUMMARY:O’ Sister
DESCRIPTION:Género: Jazz \nPúblico recomendado: Mayores de 14 años \nPrecio: Gratuito \nRecogida de entradas el viernes día 14 de octubre de 10:00 h a 13:00 h en la Oficina de Turismo situada en la planta baja del Ayuntamiento de Umbrete\, también el mismo día del espectáculo de 19:15 h a 19:45 h en la taquilla del Teatro\, hasta completar aforo. \n«Nobody cares»: Los nuevos años 20\nEn su quinto álbum\, O Sister! nos mete de lleno en los nuevos años 20 que trae este decenio con un\nsonido propio dentro del swing que\, lejos de la autocomplacencia y de un ejercicio de nostalgia\nretro\, se aventura a explorar otros géneros y ambientes musicales\, aun manteniendo sus señas de\nidentidad: los recursos únicos del trío vocal\, un jazz pegado a las raíces de este estilo en Nueva\nOrleans y una libertad transgresora que sí toma como modelo aquella era dorada.\nDe la Jazz Age extraen además su carácter revolucionario\, como el de aquellas mujeres conocidas\ncomo flappers que conquistaron derechos a ritmo de swing con referentes como Joséphine Baker\,\nLouise Brooks o Coco Chanel. También rompían moldes por entonces las Boswell Sisters\, a cuyo\nextraordinario legado le dedican una canción (“The Boswell Sisters Song”)\, y de las que recuperan\nsus arreglos para “It’s the girl”; una significativa reivindicación del papel de la mujer y la única\nversión de los diez temas que forman este nuevo trabajo.\nEntre ellos encontramos desde el single homónimo (“Nobody Cares”) en torno a la velocidad de los\ntiempos que corren; a un ragtime (“Alligator Rag”) inspirado por cómo imaginó el escritor\nFernando Mansilla –fallecido en 2019– a los miembros de la banda como seis cocodrilos venidos\ndesde el Misisipi al Guadalquivir; pasando por el aire caribeño de todo un calipso (“Love Song\nNumber 2”) donde brilla la improvisación oral del gran repentista cubano Maestro Pimienta\n–colaborador de artistas como Jorge Drexler o Compay Segundo–; el espacio que va del tono\nfúnebre a la Nueva Orleans de “Do Not You Agree With Me?” a la vitalidad contagiosa y digna de\nun musical de “Swing Saved My Life”; y los sorprendentes arreglos de “Back To Square One”\,\nincluidos un cuarteto de cuerdas y la magia del theremín del chileno Martín Benavides.\nAcompañados por el trío de vientos que forman Juli Aymí\, Julien Silvand y Carlos Santana\,\nbautizado como The Horn Department\, en este LP al sexteto no parece importarle sacar los pies del\ntiesto swing\, entregando el disco más personal de su carrera\, en el que desnudan su técnica\, su\ncreatividad y su concepción de la música. En un mundo –incluida la escena musical– donde reina la\ninmediatez\, O Sister! defiende el ritmo al que han elaborado su propio estilo en estos 11 años de\ntrayectoria: a fuego lento y cuidando todos los detalles\, aquellos que le dan sentido a su música.\nComo la grabación de este álbum durante una semana de retiro creativo en La Casa Estudio\,\nen un apartado rincón del granadino Valle de Lecrín\, a cargo del reputado productor Jordi Gil\n(Derby Motoreta’s Burrito Kachimba\, All La Glory\, Bronquio\, Rocío Márquez\, Chencho\nFernández).\nParecería que hoy día a nadie le importa (nobody cares) saborear la vida de forma relajada. Y sin\nembargo\, este disco está llamado a importarle a mucha gente; a ser\, por qué no\, importante. Seguro\nlo será para ellos\, los integrantes de O Sister!\, y eso –seguro– se notará. Tiempo al tiempo.
URL:https://teatrodelavilladeumbrete.com/event/o-sister/
CATEGORIES:Jazz,Mayores de 14 años
ATTACH;FMTTYPE=image/png:https://teatrodelavilladeumbrete.com/wp-content/uploads/2022/09/o-sister-web.png
END:VEVENT
END:VCALENDAR