BEGIN:VCALENDAR
VERSION:2.0
PRODID:-//Teatro de la Villa de Umbrete - ECPv6.15.20//NONSGML v1.0//EN
CALSCALE:GREGORIAN
METHOD:PUBLISH
X-ORIGINAL-URL:https://teatrodelavilladeumbrete.com
X-WR-CALDESC:Eventos para Teatro de la Villa de Umbrete
REFRESH-INTERVAL;VALUE=DURATION:PT1H
X-Robots-Tag:noindex
X-PUBLISHED-TTL:PT1H
BEGIN:VTIMEZONE
TZID:Europe/Madrid
BEGIN:DAYLIGHT
TZOFFSETFROM:+0100
TZOFFSETTO:+0200
TZNAME:CEST
DTSTART:20210328T010000
END:DAYLIGHT
BEGIN:STANDARD
TZOFFSETFROM:+0200
TZOFFSETTO:+0100
TZNAME:CET
DTSTART:20211031T010000
END:STANDARD
BEGIN:DAYLIGHT
TZOFFSETFROM:+0100
TZOFFSETTO:+0200
TZNAME:CEST
DTSTART:20220327T010000
END:DAYLIGHT
BEGIN:STANDARD
TZOFFSETFROM:+0200
TZOFFSETTO:+0100
TZNAME:CET
DTSTART:20221030T010000
END:STANDARD
BEGIN:DAYLIGHT
TZOFFSETFROM:+0100
TZOFFSETTO:+0200
TZNAME:CEST
DTSTART:20230326T010000
END:DAYLIGHT
BEGIN:STANDARD
TZOFFSETFROM:+0200
TZOFFSETTO:+0100
TZNAME:CET
DTSTART:20231029T010000
END:STANDARD
END:VTIMEZONE
BEGIN:VEVENT
DTSTART;TZID=Europe/Madrid:20221030T173000
DTEND;TZID=Europe/Madrid:20221030T173000
DTSTAMP:20260426T003037
CREATED:20220926T070548Z
LAST-MODIFIED:20221027T092100Z
UID:10000008-1667151000-1667151000@teatrodelavilladeumbrete.com
SUMMARY:Aires. Cía Piero Partigianoni
DESCRIPTION:﻿﻿ \nGénero: Teatro/Infantil \nPúblico recomendado: Todos los públicos \nPrecio: 5 € anticipada\, 8 € no anticipada \nSinopsis del evento:  \nUn clown torpe y tierno atrapado en su mundo ideal\, que quiere que todo este en su orden\, congelado y un Ángel de la guarda que quiere que su protegido de pasos adelante para poder continuar su vida. \nAires nos cuenta la historia de todas acuellas personas que le cuesta poder decir: “Adiós y Gracias”\, poder dar vuelta a la página del libro de su vida\, sin saber que al dejar ir dejamos espacio al dejar llegar.\nUna historia que envuelve el público en una ambiente mágico a la vez que divertido\, una oda al desapego y un gracias a la experiencias compartida.\nSolo el clown con su poética podría navegar en este viaje delirante\, y solo un ángel de la guarda apasionado creería que las cosas pueden cambiar. \n  \n  \n 
URL:https://teatrodelavilladeumbrete.com/event/aires-cia-piero-partigianoni/
CATEGORIES:Infantil,Para todos los públicos
ATTACH;FMTTYPE=image/png:https://teatrodelavilladeumbrete.com/wp-content/uploads/2022/09/aires-web.png
END:VEVENT
END:VCALENDAR