BEGIN:VCALENDAR
VERSION:2.0
PRODID:-//Teatro de la Villa de Umbrete - ECPv6.15.17.1//NONSGML v1.0//EN
CALSCALE:GREGORIAN
METHOD:PUBLISH
X-WR-CALNAME:Teatro de la Villa de Umbrete
X-ORIGINAL-URL:https://teatrodelavilladeumbrete.com
X-WR-CALDESC:Eventos para Teatro de la Villa de Umbrete
REFRESH-INTERVAL;VALUE=DURATION:PT1H
X-Robots-Tag:noindex
X-PUBLISHED-TTL:PT1H
BEGIN:VTIMEZONE
TZID:Europe/Madrid
BEGIN:DAYLIGHT
TZOFFSETFROM:+0100
TZOFFSETTO:+0200
TZNAME:CEST
DTSTART:20220327T010000
END:DAYLIGHT
BEGIN:STANDARD
TZOFFSETFROM:+0200
TZOFFSETTO:+0100
TZNAME:CET
DTSTART:20221030T010000
END:STANDARD
BEGIN:DAYLIGHT
TZOFFSETFROM:+0100
TZOFFSETTO:+0200
TZNAME:CEST
DTSTART:20230326T010000
END:DAYLIGHT
BEGIN:STANDARD
TZOFFSETFROM:+0200
TZOFFSETTO:+0100
TZNAME:CET
DTSTART:20231029T010000
END:STANDARD
BEGIN:DAYLIGHT
TZOFFSETFROM:+0100
TZOFFSETTO:+0200
TZNAME:CEST
DTSTART:20240331T010000
END:DAYLIGHT
BEGIN:STANDARD
TZOFFSETFROM:+0200
TZOFFSETTO:+0100
TZNAME:CET
DTSTART:20241027T010000
END:STANDARD
END:VTIMEZONE
BEGIN:VEVENT
DTSTART;TZID=Europe/Madrid:20230318T200000
DTEND;TZID=Europe/Madrid:20230318T210000
DTSTAMP:20260423T202818
CREATED:20230118T161651Z
LAST-MODIFIED:20230119T165012Z
UID:10000027-1679169600-1679173200@teatrodelavilladeumbrete.com
SUMMARY:Homenaje a los Álvarez Quintero. Los Compadres
DESCRIPTION:Género: Humor \nPúblico recomendado: Mayores de 14 años \nPrecio: 5 € anticipada\, 8 € no anticipada \nSinopsis: \nSe cumplen 150 años del nacimiento de Serafín Álvarez Quintero\, y no queremos dejar pasar esta ocasión para rendirles\, orgullosos\, el mejor de los homenajes posibles: volver a representar en circuitos profesionales algunas de sus piezas más carismáticas y poner en valor la calidad de sus textos. \nUna visión con el foco puesto en el ternurismo y en lo melodramático\, que ofrece un retrato idealizado\, divertido y amable de una tierra como Andalucía\, que tan bien conocían. \nLa alegría de vivir salvó el teatro de los Quintero de implacables críticos de la época\, como Ramón Pérez de Ayala\, Azorín y Luis Cernuda. \nSus textos llenos de ritmo y personajes carismáticos nos brindan en este merecido homenaje\, un encuentro especial con el espectador\, ya que sus sainetes demuestran la maestría de sus autores y su profundo respeto por el público. \n  \n  \n 
URL:https://teatrodelavilladeumbrete.com/event/homenaje-a-los-alvarez-quintero-los-compadres/
CATEGORIES:Humor,Mayores de 14 años
ATTACH;FMTTYPE=image/png:https://teatrodelavilladeumbrete.com/wp-content/uploads/2023/01/los-compadres-web-1.png
END:VEVENT
END:VCALENDAR