BEGIN:VCALENDAR
VERSION:2.0
PRODID:-//Teatro de la Villa de Umbrete - ECPv6.15.17.1//NONSGML v1.0//EN
CALSCALE:GREGORIAN
METHOD:PUBLISH
X-WR-CALNAME:Teatro de la Villa de Umbrete
X-ORIGINAL-URL:https://teatrodelavilladeumbrete.com
X-WR-CALDESC:Eventos para Teatro de la Villa de Umbrete
REFRESH-INTERVAL;VALUE=DURATION:PT1H
X-Robots-Tag:noindex
X-PUBLISHED-TTL:PT1H
BEGIN:VTIMEZONE
TZID:Europe/Madrid
BEGIN:DAYLIGHT
TZOFFSETFROM:+0100
TZOFFSETTO:+0200
TZNAME:CEST
DTSTART:20210328T010000
END:DAYLIGHT
BEGIN:STANDARD
TZOFFSETFROM:+0200
TZOFFSETTO:+0100
TZNAME:CET
DTSTART:20211031T010000
END:STANDARD
BEGIN:DAYLIGHT
TZOFFSETFROM:+0100
TZOFFSETTO:+0200
TZNAME:CEST
DTSTART:20220327T010000
END:DAYLIGHT
BEGIN:STANDARD
TZOFFSETFROM:+0200
TZOFFSETTO:+0100
TZNAME:CET
DTSTART:20221030T010000
END:STANDARD
BEGIN:DAYLIGHT
TZOFFSETFROM:+0100
TZOFFSETTO:+0200
TZNAME:CEST
DTSTART:20230326T010000
END:DAYLIGHT
BEGIN:STANDARD
TZOFFSETFROM:+0200
TZOFFSETTO:+0100
TZNAME:CET
DTSTART:20231029T010000
END:STANDARD
END:VTIMEZONE
BEGIN:VEVENT
DTSTART;TZID=Europe/Madrid:20221126T200000
DTEND;TZID=Europe/Madrid:20221126T210000
DTSTAMP:20260424T034341
CREATED:20221005T151316Z
LAST-MODIFIED:20221111T163206Z
UID:10000013-1669492800-1669496400@teatrodelavilladeumbrete.com
SUMMARY:Eh\, brother. Cía Las Brothers
DESCRIPTION:Género: Teatro/Humor \nPúblico recomendado: Todos los públicos \nPrecio: 5 € Anticipada / 8 € No anticipada \nSinopsis del evento: \nTres malhechores de medio pelo cumplen condena a trabajos forzados. Accidentalmente\, encuentran la oportunidad de escapar de la penitenciaría y se aventuran en lo que promete ser un magnífico y sencillo plan de robo… que no hará más que conducirles a situaciones imprevistas y descabelladas. \nLa compañía Las Brothers en su apuesta por el teatro gestual y de humor\, nos trae esta historia de aventuras y desventuras\, con referencias al cine mudo y a grandes cómicos como Laurel y Hardy\, Chaplin\, Buster Keaton o Harold Lloyd. \n  \n 
URL:https://teatrodelavilladeumbrete.com/event/eh-brother-cia-las-brothers/
CATEGORIES:Humor,Para todos los públicos,Teatro
ATTACH;FMTTYPE=image/png:https://teatrodelavilladeumbrete.com/wp-content/uploads/2022/10/eh-brother.png
END:VEVENT
END:VCALENDAR