BEGIN:VCALENDAR
VERSION:2.0
PRODID:-//Teatro de la Villa de Umbrete - ECPv6.15.20//NONSGML v1.0//EN
CALSCALE:GREGORIAN
METHOD:PUBLISH
X-ORIGINAL-URL:https://teatrodelavilladeumbrete.com
X-WR-CALDESC:Eventos para Teatro de la Villa de Umbrete
REFRESH-INTERVAL;VALUE=DURATION:PT1H
X-Robots-Tag:noindex
X-PUBLISHED-TTL:PT1H
BEGIN:VTIMEZONE
TZID:Europe/Madrid
BEGIN:DAYLIGHT
TZOFFSETFROM:+0100
TZOFFSETTO:+0200
TZNAME:CEST
DTSTART:20210328T010000
END:DAYLIGHT
BEGIN:STANDARD
TZOFFSETFROM:+0200
TZOFFSETTO:+0100
TZNAME:CET
DTSTART:20211031T010000
END:STANDARD
BEGIN:DAYLIGHT
TZOFFSETFROM:+0100
TZOFFSETTO:+0200
TZNAME:CEST
DTSTART:20220327T010000
END:DAYLIGHT
BEGIN:STANDARD
TZOFFSETFROM:+0200
TZOFFSETTO:+0100
TZNAME:CET
DTSTART:20221030T010000
END:STANDARD
BEGIN:DAYLIGHT
TZOFFSETFROM:+0100
TZOFFSETTO:+0200
TZNAME:CEST
DTSTART:20230326T010000
END:DAYLIGHT
BEGIN:STANDARD
TZOFFSETFROM:+0200
TZOFFSETTO:+0100
TZNAME:CET
DTSTART:20231029T010000
END:STANDARD
END:VTIMEZONE
BEGIN:VEVENT
DTSTART;TZID=Europe/Madrid:20221008T200000
DTEND;TZID=Europe/Madrid:20221008T210500
DTSTAMP:20260425T145737
CREATED:20220925T114943Z
LAST-MODIFIED:20221005T142342Z
UID:10000004-1665259200-1665263100@teatrodelavilladeumbrete.com
SUMMARY:EGO. Cia. Hiperbólicas
DESCRIPTION:Género: Danza/Teatro \nPúblico recomendado: Mayores de 14 años \nPrecio: Gratuito \nPuedes adquirir tu entrada en el Ayuntamiento de Umbrete el jueves 6 en horario de 9 a 15 h en la oficina de turismo planta baja. Cada persona podrá adquirir un máximo de 2 entradas. \n También pueden reservar entradas enviado un correo a taquilla@teatrodelavilladeumbrete.com con los datos: nombre y apellidos y tlf de contacto. Habrá que recogerla en las taquillas del teatro el sábado de 19.15 h a 19.45 h. \nSinopsis del evento: \nEgo propone la liberación de una cabeza. De la cabeza precisamente de la única intérprete que hay en escena. \nEsta propuesta hace un planteamiento de la sociedad actual\, llevando a escena temas como las redes sociales\, el amor\, la familia\, la mujer… mediante los lenguajes del cuerpo y de la voz de la intérprete.
URL:https://teatrodelavilladeumbrete.com/event/ego-cia-hiperbolicas/
CATEGORIES:Danza,Mayores de 14 años
ATTACH;FMTTYPE=image/png:https://teatrodelavilladeumbrete.com/wp-content/uploads/2022/09/ego-web.png
END:VEVENT
END:VCALENDAR