BEGIN:VCALENDAR
VERSION:2.0
PRODID:-//Teatro de la Villa de Umbrete - ECPv6.15.17.1//NONSGML v1.0//EN
CALSCALE:GREGORIAN
METHOD:PUBLISH
X-ORIGINAL-URL:https://teatrodelavilladeumbrete.com
X-WR-CALDESC:Eventos para Teatro de la Villa de Umbrete
REFRESH-INTERVAL;VALUE=DURATION:PT1H
X-Robots-Tag:noindex
X-PUBLISHED-TTL:PT1H
BEGIN:VTIMEZONE
TZID:Europe/Madrid
BEGIN:DAYLIGHT
TZOFFSETFROM:+0100
TZOFFSETTO:+0200
TZNAME:CEST
DTSTART:20230326T010000
END:DAYLIGHT
BEGIN:STANDARD
TZOFFSETFROM:+0200
TZOFFSETTO:+0100
TZNAME:CET
DTSTART:20231029T010000
END:STANDARD
BEGIN:DAYLIGHT
TZOFFSETFROM:+0100
TZOFFSETTO:+0200
TZNAME:CEST
DTSTART:20240331T010000
END:DAYLIGHT
BEGIN:STANDARD
TZOFFSETFROM:+0200
TZOFFSETTO:+0100
TZNAME:CET
DTSTART:20241027T010000
END:STANDARD
BEGIN:DAYLIGHT
TZOFFSETFROM:+0100
TZOFFSETTO:+0200
TZNAME:CEST
DTSTART:20250330T010000
END:DAYLIGHT
BEGIN:STANDARD
TZOFFSETFROM:+0200
TZOFFSETTO:+0100
TZNAME:CET
DTSTART:20251026T010000
END:STANDARD
END:VTIMEZONE
BEGIN:VEVENT
DTSTART;TZID=Europe/Madrid:20240228T120000
DTEND;TZID=Europe/Madrid:20240228T133000
DTSTAMP:20260424T180848
CREATED:20240109T080735Z
LAST-MODIFIED:20240221T093827Z
UID:10000051-1709121600-1709127000@teatrodelavilladeumbrete.com
SUMMARY:Acto institucional día de Andalucía
DESCRIPTION:El Día de Andalucía se vivirá a lo grande en Umbrete con la celebración\, por primera vez en el Teatro de la Villa\, del acto institucional presentado por África Arroyo Lora donde se hará entrega de las Medallas de la Villa 2024 acompañados de las actuaciones de Patricia Cayuelo\, José Antonio Rastrero y la asociación flamenca Alba Romero. \nEl Ayuntamiento de Umbrete ofrece a todas las vecinas y vecinos del municipio la posibilidad de asistir a través de la reserva de invitaciones (dos por persona como máximo a través del correo electrónico info@teatrodelavilladeumbrete.com y/o en el WhatsApp 619 308 831 (de lunes a viernes en horario de 9:00 a 14:00 horas) indicando nombre y apellidos de los solicitantes. \nY a partir de las 14:00 horas no te pierdas la Verbena Popular en la Plaza de la Constitución con música\, buen ambiente y un ambigú en beneficio a la Hermandad Sacramental de Umbrete.
URL:https://teatrodelavilladeumbrete.com/event/acto-institucional-dia-de-andalucia/
CATEGORIES:Acto,Mayores de 14 años
ATTACH;FMTTYPE=image/png:https://teatrodelavilladeumbrete.com/wp-content/uploads/2024/01/dia-andalucia-24.png
END:VEVENT
END:VCALENDAR